Package: PanomiR Version: 1.13.0 Command: /home/biocbuild/R/R/bin/R CMD INSTALL PanomiR StartedAt: 2025-07-14 21:12:53 -0000 (Mon, 14 Jul 2025) EndedAt: 2025-07-14 21:12:58 -0000 (Mon, 14 Jul 2025) EllapsedTime: 4.3 seconds RetCode: 0 Status: OK