Package: PanomiR Version: 1.13.0 Command: /home/biocbuild/R/R/bin/R CMD build --keep-empty-dirs --no-resave-data PanomiR StartedAt: 2025-07-15 01:41:33 -0000 (Tue, 15 Jul 2025) EndedAt: 2025-07-15 01:42:07 -0000 (Tue, 15 Jul 2025) EllapsedTime: 34.1 seconds RetCode: 0 Status: OK PackageFile: PanomiR_1.13.0.tar.gz PackageFileSize: 2.005 MiB