Package: PanomiR Version: 1.13.0 Command: /home/biocbuild/bbs-3.22-bioc/R/bin/R CMD INSTALL PanomiR StartedAt: 2025-06-29 15:49:00 -0400 (Sun, 29 Jun 2025) EndedAt: 2025-06-29 15:49:04 -0400 (Sun, 29 Jun 2025) EllapsedTime: 3.3 seconds RetCode: 0 Status: OK