Package: PanomiR Version: 1.13.0 Command: rm -rf PanomiR.buildbin-libdir && mkdir PanomiR.buildbin-libdir && /Users/biocbuild/BBS/utils/build-universal.sh PanomiR_1.13.0.tar.gz /Library/Frameworks/R.framework/Resources/bin/R PanomiR.buildbin-libdir StartedAt: 2025-07-11 22:29:46 -0400 (Fri, 11 Jul 2025) EndedAt: 2025-07-11 22:29:48 -0400 (Fri, 11 Jul 2025) EllapsedTime: 2.0 seconds RetCode: 0 Status: OK PackageFile: PanomiR_1.13.0.tgz PackageFileSize: 2.067 MiB