Package: PWMEnrich Version: 4.45.0 Command: F:\biocbuild\bbs-3.22-bioc\R\bin\R.exe CMD INSTALL PWMEnrich StartedAt: 2025-07-01 15:51:03 -0400 (Tue, 01 Jul 2025) EndedAt: 2025-07-01 15:52:25 -0400 (Tue, 01 Jul 2025) EllapsedTime: 81.7 seconds RetCode: 0 Status: OK