Package: PWMEnrich Version: 4.45.0 Command: chmod a+r PWMEnrich -R && F:\biocbuild\bbs-3.22-bioc\R\bin\R.exe CMD build --keep-empty-dirs --no-resave-data PWMEnrich StartedAt: 2025-07-01 21:20:58 -0400 (Tue, 01 Jul 2025) EndedAt: 2025-07-01 21:23:35 -0400 (Tue, 01 Jul 2025) EllapsedTime: 156.7 seconds RetCode: 0 Status: OK PackageFile: PWMEnrich_4.45.0.tar.gz PackageFileSize: 1.571 MiB