Package: PWMEnrich Version: 4.45.0 Command: rm -rf PWMEnrich.buildbin-libdir && mkdir PWMEnrich.buildbin-libdir && F:\biocbuild\bbs-3.22-bioc\R\bin\R.exe CMD INSTALL --build --library=PWMEnrich.buildbin-libdir PWMEnrich_4.45.0.tar.gz StartedAt: 2025-07-02 09:36:03 -0400 (Wed, 02 Jul 2025) EndedAt: 2025-07-02 09:37:20 -0400 (Wed, 02 Jul 2025) EllapsedTime: 76.2 seconds RetCode: 0 Status: OK PackageFile: PWMEnrich_4.45.0.zip PackageFileSize: 1.99 MiB