Package: PSMatch Version: 1.13.1 Command: F:\biocbuild\bbs-3.22-bioc\R\bin\R.exe CMD INSTALL PSMatch StartedAt: 2025-07-11 16:39:47 -0400 (Fri, 11 Jul 2025) EndedAt: 2025-07-11 16:41:01 -0400 (Fri, 11 Jul 2025) EllapsedTime: 74.0 seconds RetCode: 0 Status: OK