Package: PSMatch Version: 1.13.1 Command: F:\biocbuild\bbs-3.22-bioc\R\bin\R.exe CMD check --no-multiarch --install=check:PSMatch.install-out.txt --library=F:\biocbuild\bbs-3.22-bioc\R\library --no-vignettes --timings PSMatch_1.13.1.tar.gz StartedAt: 2025-07-12 05:16:41 -0400 (Sat, 12 Jul 2025) EndedAt: 2025-07-12 05:22:05 -0400 (Sat, 12 Jul 2025) EllapsedTime: 323.9 seconds RetCode: 0 Status: OK CheckDir: PSMatch.Rcheck Warnings: 0