Package: PROPS Version: 1.31.0 Command: /home/biocbuild/R/R/bin/R CMD INSTALL PROPS StartedAt: 2025-07-21 20:53:19 -0000 (Mon, 21 Jul 2025) EndedAt: 2025-07-21 20:53:43 -0000 (Mon, 21 Jul 2025) EllapsedTime: 23.9 seconds RetCode: 0 Status: OK