Package: PROPS Version: 1.31.0 Command: /home/biocbuild/R/R/bin/R CMD build --keep-empty-dirs --no-resave-data PROPS StartedAt: 2025-07-22 02:00:16 -0000 (Tue, 22 Jul 2025) EndedAt: 2025-07-22 02:04:05 -0000 (Tue, 22 Jul 2025) EllapsedTime: 229.1 seconds RetCode: 0 Status: OK PackageFile: PROPS_1.31.0.tar.gz PackageFileSize: 3.586 MiB