Package: PROPER Version: 1.41.0 Command: /home/biocbuild/R/R/bin/R CMD build --keep-empty-dirs --no-resave-data PROPER StartedAt: 2025-07-15 01:57:27 -0000 (Tue, 15 Jul 2025) EndedAt: 2025-07-15 01:57:36 -0000 (Tue, 15 Jul 2025) EllapsedTime: 9.0 seconds RetCode: 0 Status: OK PackageFile: PROPER_1.41.0.tar.gz PackageFileSize: 1.791 MiB