Package: PROPER Version: 1.41.0 Command: F:\biocbuild\bbs-3.22-bioc\R\bin\R.exe CMD INSTALL PROPER StartedAt: 2025-07-11 15:27:09 -0400 (Fri, 11 Jul 2025) EndedAt: 2025-07-11 15:27:20 -0400 (Fri, 11 Jul 2025) EllapsedTime: 10.6 seconds RetCode: 0 Status: OK