Package: PROPER Version: 1.41.0 Command: chmod a+r PROPER -R && F:\biocbuild\bbs-3.22-bioc\R\bin\R.exe CMD build --keep-empty-dirs --no-resave-data PROPER StartedAt: 2025-07-11 21:18:07 -0400 (Fri, 11 Jul 2025) EndedAt: 2025-07-11 21:18:39 -0400 (Fri, 11 Jul 2025) EllapsedTime: 31.7 seconds RetCode: 0 Status: OK PackageFile: PROPER_1.41.0.tar.gz PackageFileSize: 1.801 MiB