Package: PROPER Version: 1.41.0 Command: /Library/Frameworks/R.framework/Resources/bin/R CMD check --install=check:PROPER.install-out.txt --library=/Library/Frameworks/R.framework/Resources/library --no-vignettes --timings PROPER_1.41.0.tar.gz StartedAt: 2025-07-11 20:50:02 -0400 (Fri, 11 Jul 2025) EndedAt: 2025-07-11 20:50:21 -0400 (Fri, 11 Jul 2025) EllapsedTime: 19.2 seconds RetCode: 0 Status: WARNINGS CheckDir: PROPER.Rcheck Warnings: 2