Package: PROPER Version: 1.41.0 Command: rm -rf PROPER.buildbin-libdir && mkdir PROPER.buildbin-libdir && /Users/biocbuild/BBS/utils/build-universal.sh PROPER_1.41.0.tar.gz /Library/Frameworks/R.framework/Resources/bin/R PROPER.buildbin-libdir StartedAt: 2025-07-11 22:30:57 -0400 (Fri, 11 Jul 2025) EndedAt: 2025-07-11 22:30:59 -0400 (Fri, 11 Jul 2025) EllapsedTime: 2.0 seconds RetCode: 0 Status: OK PackageFile: PROPER_1.41.0.tgz PackageFileSize: 1.575 MiB