Package: PRONE Version: 1.3.1 Command: chmod a+r PRONE -R && F:\biocbuild\bbs-3.22-bioc\R\bin\R.exe CMD build --keep-empty-dirs --no-resave-data PRONE StartedAt: 2025-07-24 21:32:41 -0400 (Thu, 24 Jul 2025) EndedAt: 2025-07-24 21:36:40 -0400 (Thu, 24 Jul 2025) EllapsedTime: 238.6 seconds RetCode: 0 Status: OK PackageFile: PRONE_1.3.1.tar.gz PackageFileSize: 6.28 MiB