Package: PRONE Version: 1.3.1 Command: /Library/Frameworks/R.framework/Resources/bin/R CMD INSTALL PRONE StartedAt: 2025-07-14 15:54:38 -0400 (Mon, 14 Jul 2025) EndedAt: 2025-07-14 15:55:32 -0400 (Mon, 14 Jul 2025) EllapsedTime: 54.0 seconds RetCode: 0 Status: OK