Package: PRONE Version: 1.3.1 Command: /Library/Frameworks/R.framework/Resources/bin/R CMD check --install=check:PRONE.install-out.txt --library=/Library/Frameworks/R.framework/Resources/library --no-vignettes --timings PRONE_1.3.1.tar.gz StartedAt: 2025-07-21 20:54:08 -0400 (Mon, 21 Jul 2025) EndedAt: 2025-07-21 20:56:09 -0400 (Mon, 21 Jul 2025) EllapsedTime: 120.4 seconds RetCode: 0 Status: OK CheckDir: PRONE.Rcheck Warnings: 0