Package: PROMISE Version: 1.61.0 Command: F:\biocbuild\bbs-3.22-bioc\R\bin\R.exe CMD INSTALL PROMISE StartedAt: 2025-07-16 15:46:39 -0400 (Wed, 16 Jul 2025) EndedAt: 2025-07-16 15:47:02 -0400 (Wed, 16 Jul 2025) EllapsedTime: 22.6 seconds RetCode: 0 Status: OK