Package: PROMISE Version: 1.61.0 Command: F:\biocbuild\bbs-3.22-bioc\R\bin\R.exe CMD check --no-multiarch --install=check:PROMISE.install-out.txt --library=F:\biocbuild\bbs-3.22-bioc\R\library --no-vignettes --timings PROMISE_1.61.0.tar.gz StartedAt: 2025-07-18 05:18:20 -0400 (Fri, 18 Jul 2025) EndedAt: 2025-07-18 05:20:30 -0400 (Fri, 18 Jul 2025) EllapsedTime: 130.2 seconds RetCode: 0 Status: OK CheckDir: PROMISE.Rcheck Warnings: 0