Package: PROMISE Version: 1.61.0 Command: chmod a+r PROMISE -R && F:\biocbuild\bbs-3.22-bioc\R\bin\R.exe CMD build --keep-empty-dirs --no-resave-data PROMISE StartedAt: 2025-07-16 21:18:00 -0400 (Wed, 16 Jul 2025) EndedAt: 2025-07-16 21:18:37 -0400 (Wed, 16 Jul 2025) EllapsedTime: 37.3 seconds RetCode: 0 Status: OK PackageFile: PROMISE_1.61.0.tar.gz PackageFileSize: 135.6 KiB