Package: PROMISE Version: 1.61.0 Command: /Library/Frameworks/R.framework/Resources/bin/R CMD INSTALL PROMISE StartedAt: 2025-07-04 15:24:52 -0400 (Fri, 04 Jul 2025) EndedAt: 2025-07-04 15:25:12 -0400 (Fri, 04 Jul 2025) EllapsedTime: 20.1 seconds RetCode: 0 Status: OK