Package: PROMISE Version: 1.61.0 Command: /Library/Frameworks/R.framework/Resources/bin/R CMD check --install=check:PROMISE.install-out.txt --library=/Library/Frameworks/R.framework/Resources/library --no-vignettes --timings PROMISE_1.61.0.tar.gz StartedAt: 2025-07-04 22:39:53 -0400 (Fri, 04 Jul 2025) EndedAt: 2025-07-04 22:41:54 -0400 (Fri, 04 Jul 2025) EllapsedTime: 120.3 seconds RetCode: 0 Status: OK CheckDir: PROMISE.Rcheck Warnings: 0