Package: PREDA Version: 1.55.0 Command: F:\biocbuild\bbs-3.22-bioc\R\bin\R.exe CMD INSTALL PREDA StartedAt: 2025-07-14 16:11:48 -0400 (Mon, 14 Jul 2025) EndedAt: 2025-07-14 16:12:52 -0400 (Mon, 14 Jul 2025) EllapsedTime: 64.2 seconds RetCode: 0 Status: OK