Package: PREDA Version: 1.55.0 Command: F:\biocbuild\bbs-3.22-bioc\R\bin\R.exe CMD check --no-multiarch --install=check:PREDA.install-out.txt --library=F:\biocbuild\bbs-3.22-bioc\R\library --no-vignettes --timings PREDA_1.55.0.tar.gz StartedAt: 2025-07-15 05:15:54 -0400 (Tue, 15 Jul 2025) EndedAt: 2025-07-15 05:18:12 -0400 (Tue, 15 Jul 2025) EllapsedTime: 137.8 seconds RetCode: 0 Status: WARNINGS CheckDir: PREDA.Rcheck Warnings: 1