Package: PREDA Version: 1.55.0 Command: chmod a+r PREDA -R && F:\biocbuild\bbs-3.22-bioc\R\bin\R.exe CMD build --keep-empty-dirs --no-resave-data PREDA StartedAt: 2025-07-16 21:16:16 -0400 (Wed, 16 Jul 2025) EndedAt: 2025-07-16 21:19:32 -0400 (Wed, 16 Jul 2025) EllapsedTime: 195.5 seconds RetCode: 0 Status: OK PackageFile: PREDA_1.55.0.tar.gz PackageFileSize: 1.761 MiB