Package: PREDA Version: 1.55.0 Command: rm -rf PREDA.buildbin-libdir && mkdir PREDA.buildbin-libdir && F:\biocbuild\bbs-3.22-bioc\R\bin\R.exe CMD INSTALL --build --library=PREDA.buildbin-libdir PREDA_1.55.0.tar.gz StartedAt: 2025-07-15 09:38:48 -0400 (Tue, 15 Jul 2025) EndedAt: 2025-07-15 09:39:52 -0400 (Tue, 15 Jul 2025) EllapsedTime: 64.6 seconds RetCode: 0 Status: OK PackageFile: PREDA_1.55.0.zip PackageFileSize: 1.755 MiB