Package: PPInfer Version: 1.35.0 Command: F:\biocbuild\bbs-3.22-bioc\R\bin\R.exe CMD check --no-multiarch --install=check:PPInfer.install-out.txt --library=F:\biocbuild\bbs-3.22-bioc\R\library --no-vignettes --timings PPInfer_1.35.0.tar.gz StartedAt: 2025-08-15 06:32:22 -0400 (Fri, 15 Aug 2025) EndedAt: 2025-08-15 06:37:46 -0400 (Fri, 15 Aug 2025) EllapsedTime: 323.9 seconds RetCode: 0 Status: OK CheckDir: PPInfer.Rcheck Warnings: 0