Package: POWSC Version: 1.17.0 Command: /home/biocbuild/R/R/bin/R CMD check --install=check:POWSC.install-out.txt --library=/home/biocbuild/R/R/site-library --no-vignettes --timings POWSC_1.17.0.tar.gz StartedAt: 2025-07-01 10:30:00 -0000 (Tue, 01 Jul 2025) EndedAt: 2025-07-01 10:35:40 -0000 (Tue, 01 Jul 2025) EllapsedTime: 340.2 seconds RetCode: 0 Status: OK CheckDir: POWSC.Rcheck Warnings: 0