Package: POWSC Version: 1.17.0 Command: /home/biocbuild/R/R/bin/R CMD build --keep-empty-dirs --no-resave-data POWSC StartedAt: 2025-07-01 01:55:11 -0000 (Tue, 01 Jul 2025) EndedAt: 2025-07-01 01:56:57 -0000 (Tue, 01 Jul 2025) EllapsedTime: 106.1 seconds RetCode: 0 Status: OK PackageFile: POWSC_1.17.0.tar.gz PackageFileSize: 1.171 MiB