Package: POWSC Version: 1.17.0 Command: F:\biocbuild\bbs-3.22-bioc\R\bin\R.exe CMD INSTALL POWSC StartedAt: 2025-07-20 16:06:02 -0400 (Sun, 20 Jul 2025) EndedAt: 2025-07-20 16:06:40 -0400 (Sun, 20 Jul 2025) EllapsedTime: 37.7 seconds RetCode: 0 Status: OK