Package: POWSC Version: 1.17.0 Command: F:\biocbuild\bbs-3.22-bioc\R\bin\R.exe CMD check --no-multiarch --install=check:POWSC.install-out.txt --library=F:\biocbuild\bbs-3.22-bioc\R\library --no-vignettes --timings POWSC_1.17.0.tar.gz StartedAt: 2025-07-22 05:23:54 -0400 (Tue, 22 Jul 2025) EndedAt: 2025-07-22 05:29:12 -0400 (Tue, 22 Jul 2025) EllapsedTime: 317.5 seconds RetCode: 0 Status: OK CheckDir: POWSC.Rcheck Warnings: 0