Package: POWSC Version: 1.17.0 Command: rm -rf POWSC.buildbin-libdir && mkdir POWSC.buildbin-libdir && F:\biocbuild\bbs-3.22-bioc\R\bin\R.exe CMD INSTALL --build --library=POWSC.buildbin-libdir POWSC_1.17.0.tar.gz StartedAt: 2025-07-21 09:44:00 -0400 (Mon, 21 Jul 2025) EndedAt: 2025-07-21 09:44:36 -0400 (Mon, 21 Jul 2025) EllapsedTime: 35.8 seconds RetCode: 0 Status: OK PackageFile: POWSC_1.17.0.zip PackageFileSize: 1.338 MiB