Package: POMA Version: 1.19.0 Command: F:\biocbuild\bbs-3.22-bioc\R\bin\R.exe CMD check --no-multiarch --install=check:POMA.install-out.txt --library=F:\biocbuild\bbs-3.22-bioc\R\library --no-vignettes --timings POMA_1.19.0.tar.gz StartedAt: 2025-08-15 06:30:48 -0400 (Fri, 15 Aug 2025) EndedAt: 2025-08-15 06:37:05 -0400 (Fri, 15 Aug 2025) EllapsedTime: 376.7 seconds RetCode: 0 Status: OK CheckDir: POMA.Rcheck Warnings: 0