Package: PMScanR Version: 0.99.6 Command: /Library/Frameworks/R.framework/Resources/bin/R CMD check --install=check:PMScanR.install-out.txt --library=/Library/Frameworks/R.framework/Resources/library --no-vignettes --timings PMScanR_0.99.6.tar.gz StartedAt: 2025-10-06 21:06:15 -0400 (Mon, 06 Oct 2025) EndedAt: 2025-10-06 21:07:56 -0400 (Mon, 06 Oct 2025) EllapsedTime: 101.2 seconds RetCode: 0 Status: OK CheckDir: PMScanR.Rcheck Warnings: 0