Package: PLPE Version: 1.69.0 Command: /home/biocbuild/R/R/bin/R CMD INSTALL PLPE StartedAt: 2025-07-14 20:26:01 -0000 (Mon, 14 Jul 2025) EndedAt: 2025-07-14 20:26:10 -0000 (Mon, 14 Jul 2025) EllapsedTime: 8.9 seconds RetCode: 0 Status: OK