Package: PLPE Version: 1.69.0 Command: /home/biocbuild/R/R/bin/R CMD check --install=check:PLPE.install-out.txt --library=/home/biocbuild/R/R/site-library --no-vignettes --timings PLPE_1.69.0.tar.gz StartedAt: 2025-07-15 10:37:01 -0000 (Tue, 15 Jul 2025) EndedAt: 2025-07-15 10:37:29 -0000 (Tue, 15 Jul 2025) EllapsedTime: 28.0 seconds RetCode: 0 Status: OK CheckDir: PLPE.Rcheck Warnings: 0