Package: PIUMA Version: 1.5.0 Command: F:\biocbuild\bbs-3.22-bioc\R\bin\R.exe CMD check --no-multiarch --install=check:PIUMA.install-out.txt --library=F:\biocbuild\bbs-3.22-bioc\R\library --no-vignettes --timings PIUMA_1.5.0.tar.gz StartedAt: 2025-07-14 05:12:02 -0400 (Mon, 14 Jul 2025) EndedAt: 2025-07-14 05:16:15 -0400 (Mon, 14 Jul 2025) EllapsedTime: 253.0 seconds RetCode: 0 Status: WARNINGS CheckDir: PIUMA.Rcheck Warnings: 1