Package: PIUMA Version: 1.5.0 Command: rm -rf PIUMA.buildbin-libdir && mkdir PIUMA.buildbin-libdir && F:\biocbuild\bbs-3.22-bioc\R\bin\R.exe CMD INSTALL --build --library=PIUMA.buildbin-libdir PIUMA_1.5.0.tar.gz StartedAt: 2025-07-16 09:33:54 -0400 (Wed, 16 Jul 2025) EndedAt: 2025-07-16 09:34:40 -0400 (Wed, 16 Jul 2025) EllapsedTime: 46.4 seconds RetCode: 0 Status: OK PackageFile: PIUMA_1.5.0.zip PackageFileSize: 2.833 MiB