Package: PIPETS Version: 1.5.0 Command: /home/biocbuild/R/R/bin/R CMD INSTALL PIPETS StartedAt: 2025-06-30 20:41:02 -0000 (Mon, 30 Jun 2025) EndedAt: 2025-06-30 20:41:17 -0000 (Mon, 30 Jun 2025) EllapsedTime: 15.2 seconds RetCode: 0 Status: OK