Package: PIPETS Version: 1.5.0 Command: /home/biocbuild/R/R/bin/R CMD check --install=check:PIPETS.install-out.txt --library=/home/biocbuild/R/R/site-library --no-vignettes --timings PIPETS_1.5.0.tar.gz StartedAt: 2025-07-01 10:25:32 -0000 (Tue, 01 Jul 2025) EndedAt: 2025-07-01 10:27:06 -0000 (Tue, 01 Jul 2025) EllapsedTime: 94.0 seconds RetCode: 0 Status: OK CheckDir: PIPETS.Rcheck Warnings: 0