Package: PIPETS Version: 1.5.0 Command: /home/biocbuild/R/R/bin/R CMD build --keep-empty-dirs --no-resave-data PIPETS StartedAt: 2025-07-01 01:52:19 -0000 (Tue, 01 Jul 2025) EndedAt: 2025-07-01 01:52:43 -0000 (Tue, 01 Jul 2025) EllapsedTime: 24.0 seconds RetCode: 0 Status: OK PackageFile: PIPETS_1.5.0.tar.gz PackageFileSize: 2.948 MiB