Package: PING Version: 2.51.1 Command: chmod a+r PING -R && F:\biocbuild\bbs-3.22-bioc\R\bin\R.exe CMD build --keep-empty-dirs --no-resave-data PING StartedAt: 2025-04-08 21:25:25 -0400 (Tue, 08 Apr 2025) EndedAt: 2025-04-08 21:25:28 -0400 (Tue, 08 Apr 2025) EllapsedTime: 3.4 seconds RetCode: 0 Status: OK PackageFile: PING_2.51.1.tar.gz PackageFileSize: 4.51 MiB