Package: PICB Version: 1.1.1 Command: chmod a+r PICB -R && F:\biocbuild\bbs-3.22-bioc\R\bin\R.exe CMD build --keep-empty-dirs --no-resave-data PICB StartedAt: 2025-08-14 22:20:42 -0400 (Thu, 14 Aug 2025) EndedAt: 2025-08-14 22:23:10 -0400 (Thu, 14 Aug 2025) EllapsedTime: 148.3 seconds RetCode: 0 Status: OK PackageFile: PICB_1.1.1.tar.gz PackageFileSize: 4.61 MiB