Package: PECA Version: 1.45.0 Command: /home/biocbuild/R/R/bin/R CMD INSTALL PECA StartedAt: 2025-07-07 20:34:50 -0000 (Mon, 07 Jul 2025) EndedAt: 2025-07-07 20:35:17 -0000 (Mon, 07 Jul 2025) EllapsedTime: 27.0 seconds RetCode: 0 Status: OK