Package: PECA Version: 1.45.0 Command: /home/biocbuild/R/R/bin/R CMD build --keep-empty-dirs --no-resave-data PECA StartedAt: 2025-07-08 01:31:02 -0000 (Tue, 08 Jul 2025) EndedAt: 2025-07-08 01:31:50 -0000 (Tue, 08 Jul 2025) EllapsedTime: 47.0 seconds RetCode: 0 Status: OK PackageFile: PECA_1.45.0.tar.gz PackageFileSize: 209.2 KiB