Package: PECA Version: 1.45.0 Command: /Library/Frameworks/R.framework/Resources/bin/R CMD INSTALL PECA StartedAt: 2025-07-04 15:09:52 -0400 (Fri, 04 Jul 2025) EndedAt: 2025-07-04 15:10:01 -0400 (Fri, 04 Jul 2025) EllapsedTime: 9.0 seconds RetCode: 0 Status: OK