Package: PECA Version: 1.45.0 Command: /Library/Frameworks/R.framework/Resources/bin/R CMD build --keep-empty-dirs --no-resave-data PECA StartedAt: 2025-07-04 17:10:45 -0400 (Fri, 04 Jul 2025) EndedAt: 2025-07-04 17:11:02 -0400 (Fri, 04 Jul 2025) EllapsedTime: 17.2 seconds RetCode: 0 Status: OK PackageFile: PECA_1.45.0.tar.gz PackageFileSize: 214.1 KiB