Package: PDATK Version: 1.17.0 Command: rm -rf PDATK.buildbin-libdir && mkdir PDATK.buildbin-libdir && F:\biocbuild\bbs-3.22-bioc\R\bin\R.exe CMD INSTALL --build --library=PDATK.buildbin-libdir PDATK_1.17.0.tar.gz StartedAt: 2025-07-25 09:54:20 -0400 (Fri, 25 Jul 2025) EndedAt: 2025-07-25 09:57:55 -0400 (Fri, 25 Jul 2025) EllapsedTime: 215.0 seconds RetCode: 0 Status: OK PackageFile: PDATK_1.17.0.zip PackageFileSize: 2.556 MiB